BEGIN:VCALENDAR
VERSION:2.0
PRODID:-//Door County Today - ECPv5.3.1.1//NONSGML v1.0//EN
CALSCALE:GREGORIAN
METHOD:PUBLISH
X-WR-CALNAME:Door County Today
X-ORIGINAL-URL:https://doorcounty.net
X-WR-CALDESC:Events for Door County Today
BEGIN:VTIMEZONE
TZID:America/Chicago
BEGIN:DAYLIGHT
TZOFFSETFROM:-0600
TZOFFSETTO:-0500
TZNAME:CDT
DTSTART:20240310T080000
END:DAYLIGHT
BEGIN:STANDARD
TZOFFSETFROM:-0500
TZOFFSETTO:-0600
TZNAME:CST
DTSTART:20241103T070000
END:STANDARD
END:VTIMEZONE
BEGIN:VEVENT
DTSTART;TZID=America/Chicago:20240608T103000
DTEND;TZID=America/Chicago:20240608T170000
DTSTAMP:20260423T171734
CREATED:20240404T195019Z
LAST-MODIFIED:20240404T195019Z
UID:32319-1717842600-1717866000@doorcounty.net
SUMMARY:10th Annual Roofing of the Goats Parade and Festival
DESCRIPTION:Parade begins at the corner of Mill Road and Highway 42 in downtown Sister Bay\, and goes a trot\, kick\, and a leap down the road to Al Johnson’s Swedish Restaurant. The parade culminates with the roofing of the first goats of the season at Al Johnson’s (weather permitting – the goats don’t go on the roof in rain or snow). The Goat Parade will be followed by Al Johnson’s Annual Goat Fest\, located at Stabbur Beer Garden (next to the restaurant). Goat Fest will feature all day festivities including: live music\, kid’s games\, various beverages\, great food\, and a Swedish Pancake Eating contest. Other businesses throughout town will also be celebrating with specials. \nAll goats are invited to participate in the parade! (please leash or harness goats) Goat costumes\, Viking hats\, and other creative endeavors are encouraged. \nReturning this year is the Goat Drop Contest. Help support the Northern Door Food Pantry and have some fun as well. Stickers will be placed on the street along the parade route. To win\, a Goat must make a deposit on your sticker during the Goat parade. All proceeds will go to the Northern Door Food Pantry at the Sister Bay Baptist Church. Stickers will be available for purchase at the parade\, or if you can’t attend you can still join in on the fun and purchase your stickers online. You do not need to be present to win! \nParade line up begins on the southeast corner of Highway 42 (N. Bay Shore Dr.) and Mill Road\, and begins at 11:00 a.m. Don’t be late…the goats walk fast!
URL:https://doorcounty.net/event/10th-annual-roofing-of-the-goats-parade-and-festival/
CATEGORIES:Featured Event
ATTACH;FMTTYPE=image/jpeg:https://doorcounty.net/wp-content/uploads/GoatParade_SBAA_1_lores.jpg
END:VEVENT
END:VCALENDAR