BEGIN:VCALENDAR
VERSION:2.0
PRODID:-//Door County Today - ECPv5.3.1.1//NONSGML v1.0//EN
CALSCALE:GREGORIAN
METHOD:PUBLISH
X-WR-CALNAME:Door County Today
X-ORIGINAL-URL:https://doorcounty.net
X-WR-CALDESC:Events for Door County Today
BEGIN:VTIMEZONE
TZID:America/Chicago
BEGIN:DAYLIGHT
TZOFFSETFROM:-0600
TZOFFSETTO:-0500
TZNAME:CDT
DTSTART:20240310T080000
END:DAYLIGHT
BEGIN:STANDARD
TZOFFSETFROM:-0500
TZOFFSETTO:-0600
TZNAME:CST
DTSTART:20241103T070000
END:STANDARD
END:VTIMEZONE
BEGIN:VEVENT
DTSTART;VALUE=DATE:20240901
DTEND;VALUE=DATE:20240902
DTSTAMP:20260423T150618
CREATED:20240326T202351Z
LAST-MODIFIED:20240326T203152Z
UID:32264-1725148800-1725235199@doorcounty.net
SUMMARY:30th Annual Marina Fest
DESCRIPTION:Sister Bay Fire Department Pancake breakfast and 12 peddle tractor pull; Live music\, food trucks; Wooden Boat Show; Fireworks; Kids games\, boat building\, rides. \n  \nwww.sisterbay.com
URL:https://doorcounty.net/event/30th-annual-marina-fest/2024-09-01/
LOCATION:Sister Bay Waterfront Park\, 10693 N Bay Shore Dr\, Sister Bay\, WI\, 54234\, United States
CATEGORIES:Featured Event
ATTACH;FMTTYPE=image/png:https://doorcounty.net/wp-content/uploads/marinafest30.png
END:VEVENT
END:VCALENDAR