BEGIN:VCALENDAR
VERSION:2.0
PRODID:-//Door County Today - ECPv5.3.1.1//NONSGML v1.0//EN
CALSCALE:GREGORIAN
METHOD:PUBLISH
X-WR-CALNAME:Door County Today
X-ORIGINAL-URL:https://doorcounty.net
X-WR-CALDESC:Events for Door County Today
BEGIN:VTIMEZONE
TZID:America/Chicago
BEGIN:DAYLIGHT
TZOFFSETFROM:-0600
TZOFFSETTO:-0500
TZNAME:CDT
DTSTART:20240310T080000
END:DAYLIGHT
BEGIN:STANDARD
TZOFFSETFROM:-0500
TZOFFSETTO:-0600
TZNAME:CST
DTSTART:20241103T070000
END:STANDARD
END:VTIMEZONE
BEGIN:VEVENT
DTSTART;TZID=America/Chicago:20240630T170000
DTEND;TZID=America/Chicago:20240630T190000
DTSTAMP:20260423T171815
CREATED:20240612T174853Z
LAST-MODIFIED:20240612T174923Z
UID:32731-1719766800-1719774000@doorcounty.net
SUMMARY:Dvořák and Brahms
DESCRIPTION:Sponsored by Sandy Zingler. Write On\, Door County poet is David Clowers.\n\nDvořák and Brahms—two great 19th century composers who gave us splendid piano quintets. However\, the Dvořák Quintet is one you may not have heard before. He was 31 when he wrote it\, but then decided to revise it in 1887 at the height of his career. Unfortunately\, this version was not heard until 1922\, 18 years after Dvořák’s death. Here is a chance to savor this rare masterpiece coupled with one of Brahms’ best chamber works in the talented hands of pianist Jeannie Yu\, in collaboration with violinist David Perry and his fellow string players.\nRepertoire\nQuintet No. 1 in A Major\, Op. 5 by Antonín Dvořák\nQuintet in F Minor\, Op. 34 by Johannes Brahms\nMusicians\nJeannie Yu\, Piano\nDavid Perry & Ann Palen\, Violin\nAllyson Fleck\, Viola\nMara McClain\, Cello\nMusician Sponsors\nDavid is sponsored by Michael Elkow and Mary Hauser & Jerry Randall. Allyson is sponsored by Peter & Beverly Ann Conroy. Mara is sponsored by Alice & Bob Chrismer and Barbara & Lee Jacobi. Jeannie is sponsored by Mary Hauser & Jerry Randall.
URL:https://doorcounty.net/event/32731/
LOCATION:Hope UCC\, Sturgeon Bay
END:VEVENT
END:VCALENDAR