BEGIN:VCALENDAR
VERSION:2.0
PRODID:-//Door County Today - ECPv5.3.1.1//NONSGML v1.0//EN
CALSCALE:GREGORIAN
METHOD:PUBLISH
X-WR-CALNAME:Door County Today
X-ORIGINAL-URL:https://doorcounty.net
X-WR-CALDESC:Events for Door County Today
BEGIN:VTIMEZONE
TZID:America/Chicago
BEGIN:DAYLIGHT
TZOFFSETFROM:-0600
TZOFFSETTO:-0500
TZNAME:CDT
DTSTART:20240310T080000
END:DAYLIGHT
BEGIN:STANDARD
TZOFFSETFROM:-0500
TZOFFSETTO:-0600
TZNAME:CST
DTSTART:20241103T070000
END:STANDARD
END:VTIMEZONE
BEGIN:VEVENT
DTSTART;TZID=America/Chicago:20240831T180000
DTEND;TZID=America/Chicago:20240831T210000
DTSTAMP:20260423T164837
CREATED:20240813T010648Z
LAST-MODIFIED:20240813T010648Z
UID:33490-1725127200-1725138000@doorcounty.net
SUMMARY:Alpine Concerts in the Tent: FBI & The Untouchable Horns
DESCRIPTION:
URL:https://doorcounty.net/event/alpine-concerts-in-the-tent-fbi-the-untouchable-horns/
LOCATION:Alpine Resort\, 7670 Horseshoe Bay Road\, Egg Harbor\, WI\, 54209\, United States
ATTACH;FMTTYPE=image/jpeg:https://doorcounty.net/wp-content/uploads/Alpine-Resort-Concerts-in-the-Tent.jpg
END:VEVENT
END:VCALENDAR