BEGIN:VCALENDAR
VERSION:2.0
PRODID:-//Door County Today - ECPv5.3.1.1//NONSGML v1.0//EN
CALSCALE:GREGORIAN
METHOD:PUBLISH
X-WR-CALNAME:Door County Today
X-ORIGINAL-URL:https://doorcounty.net
X-WR-CALDESC:Events for Door County Today
BEGIN:VTIMEZONE
TZID:America/Chicago
BEGIN:DAYLIGHT
TZOFFSETFROM:-0600
TZOFFSETTO:-0500
TZNAME:CDT
DTSTART:20250309T080000
END:DAYLIGHT
BEGIN:STANDARD
TZOFFSETFROM:-0500
TZOFFSETTO:-0600
TZNAME:CST
DTSTART:20251102T070000
END:STANDARD
END:VTIMEZONE
BEGIN:VEVENT
DTSTART;TZID=America/Chicago:20250809T133000
DTEND;TZID=America/Chicago:20250809T150000
DTSTAMP:20260424T032754
CREATED:20250716T123315Z
LAST-MODIFIED:20250716T123315Z
UID:36332-1754746200-1754751600@doorcounty.net
SUMMARY:Beetles\, Aphids\, and Flies - Oh My!
DESCRIPTION:Insects are an underappreciated\, yet a very important part of our ecosystem. Retired arborist and educator Donna Danielson will help you learn more about the importance of insects\, their life cycles\, anatomy\, and more. We’ll use microscopes and magnifiers to look at them up close. Don’t worry\, they’ll all be dead when we look at them! This program is geared toward adult participants. Meets in the Nature Center\, Lot 1.
URL:https://doorcounty.net/event/beetles-aphids-and-flies-oh-my/
LOCATION:Newport State Park 475 Cty Hwy NP\, Ellison Bay\, WI
CATEGORIES:Featured Event
ATTACH;FMTTYPE=image/jpeg:https://doorcounty.net/wp-content/uploads/NEWPORT-SIGN-1.jpg
END:VEVENT
END:VCALENDAR