BEGIN:VCALENDAR
VERSION:2.0
PRODID:-//Door County Today - ECPv5.3.1.1//NONSGML v1.0//EN
CALSCALE:GREGORIAN
METHOD:PUBLISH
X-WR-CALNAME:Door County Today
X-ORIGINAL-URL:https://doorcounty.net
X-WR-CALDESC:Events for Door County Today
BEGIN:VTIMEZONE
TZID:America/Chicago
BEGIN:DAYLIGHT
TZOFFSETFROM:-0600
TZOFFSETTO:-0500
TZNAME:CDT
DTSTART:20260308T080000
END:DAYLIGHT
BEGIN:STANDARD
TZOFFSETFROM:-0500
TZOFFSETTO:-0600
TZNAME:CST
DTSTART:20261101T070000
END:STANDARD
END:VTIMEZONE
BEGIN:VEVENT
DTSTART;TZID=America/Chicago:20260522T100000
DTEND;TZID=America/Chicago:20260522T150000
DTSTAMP:20260423T135056
CREATED:20260422T192841Z
LAST-MODIFIED:20260422T192841Z
UID:38317-1779444000-1779462000@doorcounty.net
SUMMARY:BHC Opens for Weekend Visitors
DESCRIPTION:The Belgian Heritage Center is excited to welcome visitors for the 2026 season beginning on Friday\, May 22nd. The center will be open Friday\, Saturday & Sunday from May 22nd through October\, 10 am to 3 pm. (1255 County DK\, Brussels\, WI 54204)
URL:https://doorcounty.net/event/bhc-opens-for-weekend-visitors/
LOCATION:Belgian Heritage Center 1255 Cty Rd DK\, Brussels\, WI
CATEGORIES:Featured Event
ATTACH;FMTTYPE=image/png:https://doorcounty.net/wp-content/uploads/BHC-Logo-4-1.png
END:VEVENT
END:VCALENDAR