BEGIN:VCALENDAR
VERSION:2.0
PRODID:-//Door County Today - ECPv5.3.1.1//NONSGML v1.0//EN
CALSCALE:GREGORIAN
METHOD:PUBLISH
X-WR-CALNAME:Door County Today
X-ORIGINAL-URL:https://doorcounty.net
X-WR-CALDESC:Events for Door County Today
BEGIN:VTIMEZONE
TZID:America/Chicago
BEGIN:DAYLIGHT
TZOFFSETFROM:-0600
TZOFFSETTO:-0500
TZNAME:CDT
DTSTART:20250309T080000
END:DAYLIGHT
BEGIN:STANDARD
TZOFFSETFROM:-0500
TZOFFSETTO:-0600
TZNAME:CST
DTSTART:20251102T070000
END:STANDARD
END:VTIMEZONE
BEGIN:VEVENT
DTSTART;TZID=America/Chicago:20250802T190000
DTEND;TZID=America/Chicago:20250802T203000
DTSTAMP:20260422T055101
CREATED:20250619T135852Z
LAST-MODIFIED:20250619T135852Z
UID:36077-1754161200-1754166600@doorcounty.net
SUMMARY:Big Band Jazz Summer Favorites
DESCRIPTION:A concert featuring audience-favorite big band pieces\, performed by the faculty orchestra and accompanied by student combos.
URL:https://doorcounty.net/event/big-band-jazz-summer-favorites-4/
LOCATION:Birch Creek Performance Center\, 3821 County Highway E\, Egg Harbor\, WI\, 54209\, United States
CATEGORIES:Featured Event
ATTACH;FMTTYPE=image/jpeg:https://doorcounty.net/wp-content/uploads/Jazz-II-Concert-Campbell-Jeff-Nelsen-2.jpg
END:VEVENT
END:VCALENDAR