BEGIN:VCALENDAR
VERSION:2.0
PRODID:-//Door County Today - ECPv5.3.1.1//NONSGML v1.0//EN
CALSCALE:GREGORIAN
METHOD:PUBLISH
X-WR-CALNAME:Door County Today
X-ORIGINAL-URL:https://doorcounty.net
X-WR-CALDESC:Events for Door County Today
BEGIN:VTIMEZONE
TZID:America/Chicago
BEGIN:DAYLIGHT
TZOFFSETFROM:-0600
TZOFFSETTO:-0500
TZNAME:CDT
DTSTART:20240310T080000
END:DAYLIGHT
BEGIN:STANDARD
TZOFFSETFROM:-0500
TZOFFSETTO:-0600
TZNAME:CST
DTSTART:20241103T070000
END:STANDARD
END:VTIMEZONE
BEGIN:VEVENT
DTSTART;TZID=America/Chicago:20241024T150000
DTEND;TZID=America/Chicago:20241024T180000
DTSTAMP:20260424T040155
CREATED:20241021T135315Z
LAST-MODIFIED:20241021T135315Z
UID:34011-1729782000-1729792800@doorcounty.net
SUMMARY:Boos & Brews
DESCRIPTION:Discover which Door County plants could be used to flavor beer\, then head to Sway Brewing to learn about the beer-making process. Must be 21+ to participate. $30/members\, $35/public.
URL:https://doorcounty.net/event/boos-brews/
LOCATION:Ridges Sanctuary – Cook-Albert Fuller Center 8166 Hwy 57\, Baileys Harbor\, WI
END:VEVENT
END:VCALENDAR