BEGIN:VCALENDAR
VERSION:2.0
PRODID:-//Door County Today - ECPv5.3.1.1//NONSGML v1.0//EN
CALSCALE:GREGORIAN
METHOD:PUBLISH
X-WR-CALNAME:Door County Today
X-ORIGINAL-URL:https://doorcounty.net
X-WR-CALDESC:Events for Door County Today
BEGIN:VTIMEZONE
TZID:America/Chicago
BEGIN:DAYLIGHT
TZOFFSETFROM:-0600
TZOFFSETTO:-0500
TZNAME:CDT
DTSTART:20230312T080000
END:DAYLIGHT
BEGIN:STANDARD
TZOFFSETFROM:-0500
TZOFFSETTO:-0600
TZNAME:CST
DTSTART:20231105T070000
END:STANDARD
END:VTIMEZONE
BEGIN:VEVENT
DTSTART;TZID=America/Chicago:20230128T170000
DTEND;TZID=America/Chicago:20230128T170000
DTSTAMP:20260423T131406
CREATED:20230123T213139Z
LAST-MODIFIED:20230123T213139Z
UID:27663-1674925200-1674925200@doorcounty.net
SUMMARY:Candlelight Ski
DESCRIPTION:Join this Friend’s sponsored event. Hike or ski along candlelit trails. Return to the picnic shelter afterwards to warm up around the fireplace or the outdoor fire pit & enjoy hot drinks\, popcorn\, and s’mores. Park pass (annual or day) required and can be purchased on entrance. Social Distancing & indoor masks suggested though not required. Definitely a family event. Bring a flashlight or head lamp. \nWhitefish Dunes State Park\nSturgeon Bay\, WI 54234\n920-823-2400
URL:https://doorcounty.net/event/candlelight-ski/
END:VEVENT
END:VCALENDAR