BEGIN:VCALENDAR
VERSION:2.0
PRODID:-//Door County Today - ECPv5.3.1.1//NONSGML v1.0//EN
CALSCALE:GREGORIAN
METHOD:PUBLISH
X-WR-CALNAME:Door County Today
X-ORIGINAL-URL:https://doorcounty.net
X-WR-CALDESC:Events for Door County Today
BEGIN:VTIMEZONE
TZID:America/Chicago
BEGIN:DAYLIGHT
TZOFFSETFROM:-0600
TZOFFSETTO:-0500
TZNAME:CDT
DTSTART:20240310T080000
END:DAYLIGHT
BEGIN:STANDARD
TZOFFSETFROM:-0500
TZOFFSETTO:-0600
TZNAME:CST
DTSTART:20241103T070000
END:STANDARD
END:VTIMEZONE
BEGIN:VEVENT
DTSTART;VALUE=DATE:20240721
DTEND;VALUE=DATE:20240728
DTSTAMP:20260421T053101
CREATED:20240704T004702Z
LAST-MODIFIED:20240704T004702Z
UID:33148-1721520000-1722124799@doorcounty.net
SUMMARY:Door County Plein Air Festival
DESCRIPTION:Watch as the artists paint at our peninsula’s iconic locations. Take in a lecture with prestigious artists and art collectors. Get a front row seat to the fast-paced magic that is the Quick Paint competition\, where our invited artists complete a painting from start to finish in record time on the streets and shoreline of Fish Creek. Kids can join in the excitement as well with their own Quick Paint—just stop in at PenArt for a grab-and-go art kit. \nFind out more at https://www.peninsulaschoolofart.org/doorcountypleinair \n 
URL:https://doorcounty.net/event/door-county-plein-air-festival/
LOCATION:peninsula school of art\, 3900 County Road F\, Fish Creek\, WI\, 54212\, United States
ATTACH;FMTTYPE=image/jpeg:https://doorcounty.net/wp-content/uploads/DCPAF-e1720054014440.jpg
END:VEVENT
END:VCALENDAR