BEGIN:VCALENDAR
VERSION:2.0
PRODID:-//Door County Today - ECPv5.3.1.1//NONSGML v1.0//EN
CALSCALE:GREGORIAN
METHOD:PUBLISH
X-WR-CALNAME:Door County Today
X-ORIGINAL-URL:https://doorcounty.net
X-WR-CALDESC:Events for Door County Today
BEGIN:VTIMEZONE
TZID:America/Chicago
BEGIN:DAYLIGHT
TZOFFSETFROM:-0600
TZOFFSETTO:-0500
TZNAME:CDT
DTSTART:20240310T080000
END:DAYLIGHT
BEGIN:STANDARD
TZOFFSETFROM:-0500
TZOFFSETTO:-0600
TZNAME:CST
DTSTART:20241103T070000
END:STANDARD
END:VTIMEZONE
BEGIN:VEVENT
DTSTART;TZID=America/Chicago:20240224T190000
DTEND;TZID=America/Chicago:20240224T210000
DTSTAMP:20260419T095930
CREATED:20231229T173442Z
LAST-MODIFIED:20231229T173442Z
UID:31622-1708801200-1708808400@doorcounty.net
SUMMARY:Fireside Coffeehouse Concert: pat mAcdonald
DESCRIPTION:Since his techno-folk pioneering Timbuk3 days\, pat mAcdonald has been tinkering in relative obscurity. His one-man electro-blues experiments of the late ’90s/early 2000s led to the Lowebow-driven proto-rock of Purgatory Hill. Life-threatening illness in 2016 brought a long pause. Now\, five years cancer-free\, he’s writing\, rediscovering the six-string\, and reanimating his pre-T3 acoustic roots with finger-style remakes from his back catalog. The new songs flirt with a twisted spirituality\, hints of hope\, and optimism embraced and defaced by his trademark darkish humor.
URL:https://doorcounty.net/event/fireside-coffeehouse-concert-pat-macdonald/
LOCATION:door community auditorium\, 3926 WI-42\, Fish Creek\, WI\, 54212\, United States
CATEGORIES:Featured Event
ATTACH;FMTTYPE=image/jpeg:https://doorcounty.net/wp-content/uploads/pAt-MacDonald.jpg
END:VEVENT
END:VCALENDAR