BEGIN:VCALENDAR
VERSION:2.0
PRODID:-//Door County Today - ECPv5.3.1.1//NONSGML v1.0//EN
CALSCALE:GREGORIAN
METHOD:PUBLISH
X-WR-CALNAME:Door County Today
X-ORIGINAL-URL:https://doorcounty.net
X-WR-CALDESC:Events for Door County Today
BEGIN:VTIMEZONE
TZID:America/Chicago
BEGIN:DAYLIGHT
TZOFFSETFROM:-0600
TZOFFSETTO:-0500
TZNAME:CDT
DTSTART:20230312T080000
END:DAYLIGHT
BEGIN:STANDARD
TZOFFSETFROM:-0500
TZOFFSETTO:-0600
TZNAME:CST
DTSTART:20231105T070000
END:STANDARD
END:VTIMEZONE
BEGIN:VEVENT
DTSTART;TZID=America/Chicago:20230902T190000
DTEND;TZID=America/Chicago:20230902T210000
DTSTAMP:20260419T083514
CREATED:20230817T154933Z
LAST-MODIFIED:20230817T154933Z
UID:30406-1693681200-1693688400@doorcounty.net
SUMMARY:Fireside Stories with Artist Christopher T Wood
DESCRIPTION:Saturday\, September 2 \n7 – 9pm \nDome House | 5015 South Cave Point Drive \nJoin 2023 Al & Mickey Quinlan Artist-in-Residence\, Christopher T Wood as we gather around the fire to exchange stories about The Dome House and the surrounding lands\, whether real or imagined\, past or future. The price of admission is a story to share.
URL:https://doorcounty.net/event/fireside-stories-with-artist-christopher-t-wood/
LOCATION:Dome House\, 5015 South Cave Point Drive\, Sturgeon Bay\, WI\, 54235\, United States
CATEGORIES:Featured Event
ATTACH;FMTTYPE=image/png:https://doorcounty.net/wp-content/uploads/christwoodSQ.png
END:VEVENT
END:VCALENDAR