BEGIN:VCALENDAR
VERSION:2.0
PRODID:-//Door County Today - ECPv5.3.1.1//NONSGML v1.0//EN
CALSCALE:GREGORIAN
METHOD:PUBLISH
X-WR-CALNAME:Door County Today
X-ORIGINAL-URL:https://doorcounty.net
X-WR-CALDESC:Events for Door County Today
BEGIN:VTIMEZONE
TZID:America/Chicago
BEGIN:DAYLIGHT
TZOFFSETFROM:-0600
TZOFFSETTO:-0500
TZNAME:CDT
DTSTART:20240310T080000
END:DAYLIGHT
BEGIN:STANDARD
TZOFFSETFROM:-0500
TZOFFSETTO:-0600
TZNAME:CST
DTSTART:20241103T070000
END:STANDARD
END:VTIMEZONE
BEGIN:VEVENT
DTSTART;TZID=America/Chicago:20240608T200000
DTEND;TZID=America/Chicago:20240609T000000
DTSTAMP:20260423T152140
CREATED:20240507T004228Z
LAST-MODIFIED:20240507T004228Z
UID:32562-1717876800-1717891200@doorcounty.net
SUMMARY:Frank Childress and The Main Street Band
DESCRIPTION:Head to Door County Gala for a fun and free show! Frank Childress and The Main Street Band is a fun blend of guitar rocking blues and country with a twist of Motown. Doors open at 7pm and show starts at 8pm.
URL:https://doorcounty.net/event/frank-childress-and-the-main-street-band/
LOCATION:The Sandbox\, 1023 Egg Harbor Rd\, Sturgeon Bay\, WI\, 54235\, United States
END:VEVENT
END:VCALENDAR