BEGIN:VCALENDAR
VERSION:2.0
PRODID:-//Door County Today - ECPv5.3.1.1//NONSGML v1.0//EN
CALSCALE:GREGORIAN
METHOD:PUBLISH
X-WR-CALNAME:Door County Today
X-ORIGINAL-URL:https://doorcounty.net
X-WR-CALDESC:Events for Door County Today
BEGIN:VTIMEZONE
TZID:America/Chicago
BEGIN:DAYLIGHT
TZOFFSETFROM:-0600
TZOFFSETTO:-0500
TZNAME:CDT
DTSTART:20240310T080000
END:DAYLIGHT
BEGIN:STANDARD
TZOFFSETFROM:-0500
TZOFFSETTO:-0600
TZNAME:CST
DTSTART:20241103T070000
END:STANDARD
END:VTIMEZONE
BEGIN:VEVENT
DTSTART;TZID=America/Chicago:20240720T190000
DTEND;TZID=America/Chicago:20240720T210000
DTSTAMP:20260423T171953
CREATED:20240612T180327Z
LAST-MODIFIED:20240612T180821Z
UID:32760-1721502000-1721509200@doorcounty.net
SUMMARY:Grieg Piano Concerto and Jeannie Yu
DESCRIPTION:The Women’s Fund of Door County is a supporting sponsor for this program in acknowledgment of the women musicians performing. \nSponsored by Kay Rogers-Ketterling in memory of Marvin Ketterling \nAfter her triumphant performances last season of Beethoven’s Emperor Concerto\, Jeannie returns this season to offer Grieg’s magnificent romantic treasure. We’ve discovered a stunningly beautiful arrangement with string quartet that will feature Jeannie in all her radiance. Puccini’s hauntingly beautiful Crisantemi opens the program followed by Emilie Meier’s G Minor String Quartet. Of the seven quartets she wrote\, it is the only one published in her lifetime. Her introduction of a Bach Chorale melody into the slow movement is spine tingling and will make you crave more from her.\nRepertoire\nCrisantemi by Giacomo Puccini\nQuartet in G Minor\, Op. 104 (1860) by Emilie Mayer\nConcerto in A Minor\, Op. 16 [Per Tengstrand\, arr.] by Edvard Grieg\nMusicians\nJeannie Yu\, Piano\nDavid Perry & Dawn Wohn\, Violin\nAllyson Fleck\, Viola\nPaula Kosower\, Cello\nMusician Sponsors\nDavid is sponsored by Michael Elkow and Mary Hauser & Jerry Randall. Allyson is sponsored\nby Beverly Ann & Peter Conroy. Paula is sponsored by Genie & David Meissner. Jeannie is\nsponsored by Mary Hausser & Jerry Randall.
URL:https://doorcounty.net/event/grieg-piano-concerto-and-jeannie-yu/
LOCATION:St. Luke’s Episcopal Church\, Sister Bay
END:VEVENT
END:VCALENDAR