BEGIN:VCALENDAR
VERSION:2.0
PRODID:-//Door County Today - ECPv5.3.1.1//NONSGML v1.0//EN
CALSCALE:GREGORIAN
METHOD:PUBLISH
X-WR-CALNAME:Door County Today
X-ORIGINAL-URL:https://doorcounty.net
X-WR-CALDESC:Events for Door County Today
BEGIN:VTIMEZONE
TZID:America/Chicago
BEGIN:DAYLIGHT
TZOFFSETFROM:-0600
TZOFFSETTO:-0500
TZNAME:CDT
DTSTART:20240310T080000
END:DAYLIGHT
BEGIN:STANDARD
TZOFFSETFROM:-0500
TZOFFSETTO:-0600
TZNAME:CST
DTSTART:20241103T070000
END:STANDARD
END:VTIMEZONE
BEGIN:VEVENT
DTSTART;TZID=America/Chicago:20240301T190000
DTEND;TZID=America/Chicago:20240301T210000
DTSTAMP:20260419T122653
CREATED:20231229T172419Z
LAST-MODIFIED:20231229T172419Z
UID:31609-1709319600-1709326800@doorcounty.net
SUMMARY:Makin' Cake with Dasha Kelly Hamilton
DESCRIPTION:“There was something baking during the production that was better than cake. The sense of community. I left feeling closer to the person next to me. And I think we could all use a second helping of that these days.” – Scottie Lee Myers\, PBS \nIn “Makin’ Cake\,” Dasha Kelly Hamilton slices into American history to explore race\, culture\, and class in a refreshing and fun way. “Makin’ Cake” is storytelling in layers\, filled with aha moments\, poignant vignettes\, and digital media. A duo of onstage bakers support Kelly Hamilton\, 2021 Wisconsin Poet Laureate and Milwaukee Artist of the Year\, as she digs deep into the past and present. Part history lesson\, part social science revelation\, “Makin’ Cake” is a short story about America’s sweet tooth and pathway to salvation\, leaving room for both dialogue and dessert with a cake reception immediately following the performance. \n  \nClick Here To Purchase Tickets!
URL:https://doorcounty.net/event/makin-cake-with-dasha-kelly-hamilton/
LOCATION:door community auditorium\, 3926 WI-42\, Fish Creek\, WI\, 54212\, United States
CATEGORIES:Featured Event
ATTACH;FMTTYPE=image/png:https://doorcounty.net/wp-content/uploads/Dasha-Kelly-Hamiltonsm.png
END:VEVENT
END:VCALENDAR