BEGIN:VCALENDAR
VERSION:2.0
PRODID:-//Door County Today - ECPv5.3.1.1//NONSGML v1.0//EN
CALSCALE:GREGORIAN
METHOD:PUBLISH
X-WR-CALNAME:Door County Today
X-ORIGINAL-URL:https://doorcounty.net
X-WR-CALDESC:Events for Door County Today
BEGIN:VTIMEZONE
TZID:America/Chicago
BEGIN:DAYLIGHT
TZOFFSETFROM:-0600
TZOFFSETTO:-0500
TZNAME:CDT
DTSTART:20260308T080000
END:DAYLIGHT
BEGIN:STANDARD
TZOFFSETFROM:-0500
TZOFFSETTO:-0600
TZNAME:CST
DTSTART:20261101T070000
END:STANDARD
END:VTIMEZONE
BEGIN:VEVENT
DTSTART;TZID=America/Chicago:20260502T120000
DTEND;TZID=America/Chicago:20260502T143000
DTSTAMP:20260420T101830
CREATED:20260416T172211Z
LAST-MODIFIED:20260416T172211Z
UID:38292-1777723200-1777732200@doorcounty.net
SUMMARY:No Taxation Without Tea!
DESCRIPTION:Step back in time and join us for a delightful afternoon where tea and history come together in a truly memorable way. \nAs we celebrate the 250th anniversary of the signing of the Declaration of Independence\, this special Historic Tea will explore the surprising and significant role tea played in the American Revolution. From the bold defiance of the Boston Tea Party to other moments when tea became a symbol of resistance\, you’ll discover how everyday actions helped shape the course of history.
URL:https://doorcounty.net/event/no-taxation-without-tea/
LOCATION:Heritage Village\, 2041 Michigan St\, Sturgeon Bay\, WI 54235
CATEGORIES:Featured Event
ATTACH;FMTTYPE=image/png:https://doorcounty.net/wp-content/uploads/Screenshot-2026-04-16-at-12.19.49-PM.png
END:VEVENT
END:VCALENDAR