BEGIN:VCALENDAR
VERSION:2.0
PRODID:-//Door County Today - ECPv5.3.1.1//NONSGML v1.0//EN
CALSCALE:GREGORIAN
METHOD:PUBLISH
X-WR-CALNAME:Door County Today
X-ORIGINAL-URL:https://doorcounty.net
X-WR-CALDESC:Events for Door County Today
BEGIN:VTIMEZONE
TZID:America/Chicago
BEGIN:DAYLIGHT
TZOFFSETFROM:-0600
TZOFFSETTO:-0500
TZNAME:CDT
DTSTART:20230312T080000
END:DAYLIGHT
BEGIN:STANDARD
TZOFFSETFROM:-0500
TZOFFSETTO:-0600
TZNAME:CST
DTSTART:20231105T070000
END:STANDARD
END:VTIMEZONE
BEGIN:VEVENT
DTSTART;TZID=America/Chicago:20230611T120000
DTEND;TZID=America/Chicago:20230611T140000
DTSTAMP:20260423T183912
CREATED:20230522T200948Z
LAST-MODIFIED:20230522T200948Z
UID:28820-1686484800-1686492000@doorcounty.net
SUMMARY:Open Door Pride Fun Nights at Write On
DESCRIPTION:Bring your own bagged lunch and join Open Door Pride for an afternoon of hiking Write On’s trails and playing a variety of word-related games. Free. \nWrite On\, Door County\n4210 Juddville Rd\nFish Creek\, WI 54212\nwriteondoorcounty.org\n920-868-1457
URL:https://doorcounty.net/event/open-door-pride-fun-nights-at-write-on/
ATTACH;FMTTYPE=image/jpeg:https://doorcounty.net/wp-content/uploads/write-on-jpg.jpg
END:VEVENT
END:VCALENDAR