BEGIN:VCALENDAR
VERSION:2.0
PRODID:-//Door County Today - ECPv5.3.1.1//NONSGML v1.0//EN
CALSCALE:GREGORIAN
METHOD:PUBLISH
X-WR-CALNAME:Door County Today
X-ORIGINAL-URL:https://doorcounty.net
X-WR-CALDESC:Events for Door County Today
BEGIN:VTIMEZONE
TZID:America/Chicago
BEGIN:DAYLIGHT
TZOFFSETFROM:-0600
TZOFFSETTO:-0500
TZNAME:CDT
DTSTART:20250309T080000
END:DAYLIGHT
BEGIN:STANDARD
TZOFFSETFROM:-0500
TZOFFSETTO:-0600
TZNAME:CST
DTSTART:20251102T070000
END:STANDARD
END:VTIMEZONE
BEGIN:VEVENT
DTSTART;TZID=America/Chicago:20250805T130000
DTEND;TZID=America/Chicago:20250805T143000
DTSTAMP:20260423T121104
CREATED:20250718T145409Z
LAST-MODIFIED:20250718T145409Z
UID:36378-1754398800-1754404200@doorcounty.net
SUMMARY:Place Is . . . with Ira Sukrungruang
DESCRIPTION:Discover various ways of writing about place. $30. For more information\, please visit www.writeondoorcounty.org or call 920-868-1457.
URL:https://doorcounty.net/event/place-is-with-ira-sukrungruang/
LOCATION:Write On Door County\, 4210 Juddville Road\, Juddville\, WI
CATEGORIES:Featured Event
ATTACH;FMTTYPE=image/jpeg:https://doorcounty.net/wp-content/uploads/WriteOnRendering.jpg
END:VEVENT
END:VCALENDAR