BEGIN:VCALENDAR
VERSION:2.0
PRODID:-//Door County Today - ECPv5.3.1.1//NONSGML v1.0//EN
CALSCALE:GREGORIAN
METHOD:PUBLISH
X-WR-CALNAME:Door County Today
X-ORIGINAL-URL:https://doorcounty.net
X-WR-CALDESC:Events for Door County Today
BEGIN:VTIMEZONE
TZID:America/Chicago
BEGIN:DAYLIGHT
TZOFFSETFROM:-0600
TZOFFSETTO:-0500
TZNAME:CDT
DTSTART:20230312T080000
END:DAYLIGHT
BEGIN:STANDARD
TZOFFSETFROM:-0500
TZOFFSETTO:-0600
TZNAME:CST
DTSTART:20231105T070000
END:STANDARD
END:VTIMEZONE
BEGIN:VEVENT
DTSTART;TZID=America/Chicago:20230129T180000
DTEND;TZID=America/Chicago:20230129T180000
DTSTAMP:20260423T112146
CREATED:20230123T213637Z
LAST-MODIFIED:20230123T213734Z
UID:27665-1675015200-1675015200@doorcounty.net
SUMMARY:Salsa Dancing
DESCRIPTION:Group dance lesson. $10. 7pm. Open dancing to Salsa\, Cha-cha\, Bachata & Merengue ’til close.  Drink specials. NO partner required. Great for beginners. \nSturgeon Bay Jaycee Hall\n340 Jaycee Ct\nSturgeon Bay\, WI 54235\n920-306-4576
URL:https://doorcounty.net/event/salsa-dancing/
END:VEVENT
END:VCALENDAR