BEGIN:VCALENDAR
VERSION:2.0
PRODID:-//Door County Today - ECPv5.3.1.1//NONSGML v1.0//EN
CALSCALE:GREGORIAN
METHOD:PUBLISH
X-WR-CALNAME:Door County Today
X-ORIGINAL-URL:https://doorcounty.net
X-WR-CALDESC:Events for Door County Today
BEGIN:VTIMEZONE
TZID:America/Chicago
BEGIN:DAYLIGHT
TZOFFSETFROM:-0600
TZOFFSETTO:-0500
TZNAME:CDT
DTSTART:20230312T080000
END:DAYLIGHT
BEGIN:STANDARD
TZOFFSETFROM:-0500
TZOFFSETTO:-0600
TZNAME:CST
DTSTART:20231105T070000
END:STANDARD
END:VTIMEZONE
BEGIN:VEVENT
DTSTART;TZID=America/Chicago:20230616T150000
DTEND;TZID=America/Chicago:20230617T230000
DTSTAMP:20260423T165408
CREATED:20230602T200029Z
LAST-MODIFIED:20230602T200029Z
UID:29010-1686927600-1687042800@doorcounty.net
SUMMARY:Sól Grass Music Festival
DESCRIPTION:The weekend will be a time to relax and reconnect with friends and family\, make new friends\, look at the stars\, pick a new tune and of course enjoy amazing bluegrass music. When you’re not listening to music\, enjoy paddle boarding\, kayaking or maybe riding a moped or bike around the more than 100 miles of paved road on the island. We encourage festival goers to be part of the weekend’s music. Bring your instrument and take part in one of the nighttime campfire picks or join in on a spontaneous jam.\n\nWashington Island Campground\n745 East Side Rd\nWashington Island\, WI  54246
URL:https://doorcounty.net/event/sol-grass-music-festival/
ATTACH;FMTTYPE=image/jpeg:https://doorcounty.net/wp-content/uploads/324335677_831696758130543_4098272985162450901_n.jpg
END:VEVENT
END:VCALENDAR