BEGIN:VCALENDAR
VERSION:2.0
PRODID:-//Door County Today - ECPv5.3.1.1//NONSGML v1.0//EN
CALSCALE:GREGORIAN
METHOD:PUBLISH
X-WR-CALNAME:Door County Today
X-ORIGINAL-URL:https://doorcounty.net
X-WR-CALDESC:Events for Door County Today
BEGIN:VTIMEZONE
TZID:America/Chicago
BEGIN:DAYLIGHT
TZOFFSETFROM:-0600
TZOFFSETTO:-0500
TZNAME:CDT
DTSTART:20230312T080000
END:DAYLIGHT
BEGIN:STANDARD
TZOFFSETFROM:-0500
TZOFFSETTO:-0600
TZNAME:CST
DTSTART:20231105T070000
END:STANDARD
END:VTIMEZONE
BEGIN:VEVENT
DTSTART;TZID=America/Chicago:20230506T080000
DTEND;TZID=America/Chicago:20230506T170000
DTSTAMP:20260425T131643
CREATED:20230228T210052Z
LAST-MODIFIED:20230228T210052Z
UID:27940-1683360000-1683392400@doorcounty.net
SUMMARY:Sturgeon Bay Rotary Shipyard Tours
DESCRIPTION:See the giant ships of the Great Lakes up close during the Sturgeon Bay Shipyard Tours\, Saturday\, May 6\, 2023. The Rotary Club of Sturgeon Bay partners with Fincantieri Bay Shipbuilding to open their doors to the public for tours of Sturgeon Bay’s shipbuilding juggernauts! \n605 N 3rd Ave\nSturgeon Bay\, WI 54235 \n 
URL:https://doorcounty.net/event/sturgeon-bay-rotary-shipyard-tours/
CATEGORIES:Featured Event
ATTACH;FMTTYPE=image/jpeg:https://doorcounty.net/wp-content/uploads/shipyard-tour-2.jpg
END:VEVENT
END:VCALENDAR