BEGIN:VCALENDAR
VERSION:2.0
PRODID:-//Door County Today - ECPv5.3.1.1//NONSGML v1.0//EN
CALSCALE:GREGORIAN
METHOD:PUBLISH
X-WR-CALNAME:Door County Today
X-ORIGINAL-URL:https://doorcounty.net
X-WR-CALDESC:Events for Door County Today
BEGIN:VTIMEZONE
TZID:America/Chicago
BEGIN:DAYLIGHT
TZOFFSETFROM:-0600
TZOFFSETTO:-0500
TZNAME:CDT
DTSTART:20230312T080000
END:DAYLIGHT
BEGIN:STANDARD
TZOFFSETFROM:-0500
TZOFFSETTO:-0600
TZNAME:CST
DTSTART:20231105T070000
END:STANDARD
END:VTIMEZONE
BEGIN:VEVENT
DTSTART;TZID=America/Chicago:20230619T190000
DTEND;TZID=America/Chicago:20230619T190000
DTSTAMP:20260423T221459
CREATED:20230607T165011Z
LAST-MODIFIED:20230607T165011Z
UID:29178-1687201200-1687201200@doorcounty.net
SUMMARY:The Door Reminder- “Let’s Chat with Lon Kopitkze & Trudy Fandrei”
DESCRIPTION:Join Lon Kopitske and Trudy Fandrei as they share stories from the 60 year history of The Door Reminder\, a once valuable resource for Door County residents and visitors. \nThe program will follow a short membership meeting where Lon\, with Linda Wilkinson\, will be honored as 2022 Recipients of the Don Overby Appreciation Award. Help us celebrate the countless contributions made by these valuable individuals. \nLight refreshments will be served. Merchandise benefiting LGHS will be available. All programs are free and open to the public with plenty of on-site parking and seating. \nLiberty Grove Historical Society\n11831 Hwy 42\nwww.libertygrovehistorical.org\nEllison Bay\, WI 54210
URL:https://doorcounty.net/event/the-door-reminder-lets-chat-with-lon-kopitkze-trudy-fandrei/
CATEGORIES:Featured Event
ATTACH;FMTTYPE=image/png:https://doorcounty.net/wp-content/uploads/DoorReminderPgs-1.png
END:VEVENT
END:VCALENDAR