BEGIN:VCALENDAR
VERSION:2.0
PRODID:-//Door County Today - ECPv5.3.1.1//NONSGML v1.0//EN
CALSCALE:GREGORIAN
METHOD:PUBLISH
X-WR-CALNAME:Door County Today
X-ORIGINAL-URL:https://doorcounty.net
X-WR-CALDESC:Events for Door County Today
BEGIN:VTIMEZONE
TZID:America/Chicago
BEGIN:DAYLIGHT
TZOFFSETFROM:-0600
TZOFFSETTO:-0500
TZNAME:CDT
DTSTART:20250309T080000
END:DAYLIGHT
BEGIN:STANDARD
TZOFFSETFROM:-0500
TZOFFSETTO:-0600
TZNAME:CST
DTSTART:20251102T070000
END:STANDARD
END:VTIMEZONE
BEGIN:VEVENT
DTSTART;TZID=America/Chicago:20250806T100000
DTEND;TZID=America/Chicago:20250806T110000
DTSTAMP:20260423T062854
CREATED:20250716T123107Z
LAST-MODIFIED:20250716T123107Z
UID:36328-1754474400-1754478000@doorcounty.net
SUMMARY:The Secret Life of Ferns
DESCRIPTION:Beautiful\, diverse\, and ancient\, ferns reproduce in a mysterious alteration of life forms. Join Master Naturalist and horticulturist Holly Smith as she delves into fern evolution\, life cycle\, reproduction\, diversity\, and identification. This program is geared to adult participants. Meets at the Nature Center\, with time at the end to look at some of the ferns at Newport. Lot 1.
URL:https://doorcounty.net/event/the-secret-life-of-ferns/
LOCATION:Newport State Park 475 Cty Hwy NP\, Ellison Bay\, WI
CATEGORIES:Featured Event
ATTACH;FMTTYPE=image/jpeg:https://doorcounty.net/wp-content/uploads/NEWPORT-SIGN-1.jpg
END:VEVENT
END:VCALENDAR