BEGIN:VCALENDAR
VERSION:2.0
PRODID:-//Door County Today - ECPv5.3.1.1//NONSGML v1.0//EN
CALSCALE:GREGORIAN
METHOD:PUBLISH
X-WR-CALNAME:Door County Today
X-ORIGINAL-URL:https://doorcounty.net
X-WR-CALDESC:Events for Door County Today
BEGIN:VTIMEZONE
TZID:America/Chicago
BEGIN:DAYLIGHT
TZOFFSETFROM:-0600
TZOFFSETTO:-0500
TZNAME:CDT
DTSTART:20250309T080000
END:DAYLIGHT
BEGIN:STANDARD
TZOFFSETFROM:-0500
TZOFFSETTO:-0600
TZNAME:CST
DTSTART:20251102T070000
END:STANDARD
END:VTIMEZONE
BEGIN:VEVENT
DTSTART;TZID=America/Chicago:20250809T090000
DTEND;TZID=America/Chicago:20250809T103000
DTSTAMP:20260424T032627
CREATED:20250718T145613Z
LAST-MODIFIED:20250718T145613Z
UID:36384-1754730000-1754735400@doorcounty.net
SUMMARY:Tips for Writing a Self-Published Children’s Book with Ann Heyse
DESCRIPTION:Learn about writing and editing books for children\, working with an illustrator\, and getting the book into stores. $30. For more information\, visit www.writeondoorcounty.org or call 920-868-1457.
URL:https://doorcounty.net/event/tips-for-writing-a-self-published-childrens-book-with-ann-heyse/
LOCATION:Write On Door County\, 4210 Juddville Road\, Juddville\, WI
CATEGORIES:Featured Event
ATTACH;FMTTYPE=image/jpeg:https://doorcounty.net/wp-content/uploads/AdobeStock_195691495.jpeg
END:VEVENT
END:VCALENDAR