BEGIN:VCALENDAR
VERSION:2.0
PRODID:-//Door County Today - ECPv5.3.1.1//NONSGML v1.0//EN
CALSCALE:GREGORIAN
METHOD:PUBLISH
X-WR-CALNAME:Door County Today
X-ORIGINAL-URL:https://doorcounty.net
X-WR-CALDESC:Events for Door County Today
BEGIN:VTIMEZONE
TZID:America/Chicago
BEGIN:DAYLIGHT
TZOFFSETFROM:-0600
TZOFFSETTO:-0500
TZNAME:CDT
DTSTART:20220313T080000
END:DAYLIGHT
BEGIN:STANDARD
TZOFFSETFROM:-0500
TZOFFSETTO:-0600
TZNAME:CST
DTSTART:20221106T070000
END:STANDARD
END:VTIMEZONE
BEGIN:VEVENT
DTSTART;TZID=America/Chicago:20220707T093000
DTEND;TZID=America/Chicago:20220707T123000
DTSTAMP:20260424T221759
CREATED:20220602T170828Z
LAST-MODIFIED:20220602T170828Z
UID:25589-1657186200-1657197000@doorcounty.net
SUMMARY:Writing Memoir: Self-Reflection
DESCRIPTION:Join writer Cynthia Kukla for a morning of writing about yourself through examining a piece of art.  $30. \nWrite On Door County\n4210 Juddville Rd\nFish Creek Wi 54212\nwriteondoorcounty.org\n920-868-1457
URL:https://doorcounty.net/event/writing-memoir-self-reflection/
END:VEVENT
END:VCALENDAR