BEGIN:VCALENDAR
VERSION:2.0
PRODID:-//Door County Today - ECPv5.3.1.1//NONSGML v1.0//EN
CALSCALE:GREGORIAN
METHOD:PUBLISH
X-WR-CALNAME:Door County Today
X-ORIGINAL-URL:https://doorcounty.net
X-WR-CALDESC:Events for Door County Today
BEGIN:VTIMEZONE
TZID:America/Chicago
BEGIN:DAYLIGHT
TZOFFSETFROM:-0600
TZOFFSETTO:-0500
TZNAME:CDT
DTSTART:20250309T080000
END:DAYLIGHT
BEGIN:STANDARD
TZOFFSETFROM:-0500
TZOFFSETTO:-0600
TZNAME:CST
DTSTART:20251102T070000
END:STANDARD
END:VTIMEZONE
BEGIN:VEVENT
DTSTART;TZID=America/Chicago:20250725T083000
DTEND;TZID=America/Chicago:20250725T110000
DTSTAMP:20260424T000732
CREATED:20250625T203017Z
LAST-MODIFIED:20250625T203017Z
UID:36179-1753432200-1753441200@doorcounty.net
SUMMARY:Universe in the Park
DESCRIPTION:Join guest astronomers from UW-Madison for a presentation on astronomy. We’ll start with a PowerPoint presentation at the shelter building then look to the heavens through a high-powered telescope and experience stars\, planets and galaxies. No seating is provided\, so bring a blanket or chairs. Flashlights or headlamps with red lenses\, binoculars and bug spray are recommended also. Meet outside the shelter building; this is about an 800 ft. walk from Lot 3.
URL:https://doorcounty.net/event/universe-in-the-park-2/
LOCATION:Newport State Park 475 Cty Hwy NP\, Ellison Bay\, WI
CATEGORIES:Featured Event
END:VEVENT
BEGIN:VEVENT
DTSTART;TZID=America/Chicago:20250725T090000
DTEND;TZID=America/Chicago:20250725T120000
DTSTAMP:20260424T000732
CREATED:20250718T191833Z
LAST-MODIFIED:20250718T191833Z
UID:36441-1753434000-1753444800@doorcounty.net
SUMMARY:Free Fridays
DESCRIPTION:Free Sanctuary admission\, educational activities 9am-12pm. Register at ridgessanctuary.org.
URL:https://doorcounty.net/event/free-fridays/2025-07-25/
LOCATION:Ridges Sanctuary – Cook-Albert Fuller Center 8166 Hwy 57\, Baileys Harbor\, WI
CATEGORIES:Featured Event
ATTACH;FMTTYPE=image/png:https://doorcounty.net/wp-content/uploads/Ridges-Logo126.png
END:VEVENT
BEGIN:VEVENT
DTSTART;TZID=America/Chicago:20250725T100000
DTEND;TZID=America/Chicago:20250725T120000
DTSTAMP:20260424T000732
CREATED:20250625T202941Z
LAST-MODIFIED:20250625T202941Z
UID:36177-1753437600-1753444800@doorcounty.net
SUMMARY:Nature Apps 101
DESCRIPTION:Confused by all the nature apps out there? Whether it be about birds\, trees\, plants or insects\, come learn about some of our tried and tested favorites. Join WI Master Naturalists in the Nature Center\, then spend some time in the field trying our new skills. Office building\, Lot 1.
URL:https://doorcounty.net/event/nature-apps-101/
LOCATION:Newport State Park 475 Cty Hwy NP\, Ellison Bay\, WI
CATEGORIES:Featured Event
ATTACH;FMTTYPE=image/png:https://doorcounty.net/wp-content/uploads/Screenshot-2025-06-25-at-3.10.44 PM.png
END:VEVENT
BEGIN:VEVENT
DTSTART;TZID=America/Chicago:20250725T100000
DTEND;TZID=America/Chicago:20250725T170000
DTSTAMP:20260424T000732
CREATED:20250711T140633Z
LAST-MODIFIED:20250711T140633Z
UID:36313-1753437600-1753462800@doorcounty.net
SUMMARY:Turtle Ridge Gallery: Sarah Chapman Jewelry Show
DESCRIPTION:Minneapolis based jewelry master is bringing stunning pieces to Turtle Ridge. It’s a must see for everyone who appreciates well-crafted jewelry. \n\n\n\n\nLocation: Turtle Ridge Gallery-Boutique 11736 Mink River Rd Ellison Bay \n\n\nContact: Asta at turtleridge@gmail.com
URL:https://doorcounty.net/event/turtle-ridge-gallery-sarah-chapman-jewelry-show-2/2025-07-25/
LOCATION:Turtle Ridge\, 11736 Mink River Rd\, Ellison Bay\, Wisconsin
CATEGORIES:Featured Event
END:VEVENT
BEGIN:VEVENT
DTSTART;TZID=America/Chicago:20250725T143000
DTEND;TZID=America/Chicago:20250725T163000
DTSTAMP:20260424T000732
CREATED:20250618T161057Z
LAST-MODIFIED:20250618T161057Z
UID:36000-1753453800-1753461000@doorcounty.net
SUMMARY:2025 Jazz Ambassador Concert
DESCRIPTION:The Garden Door\, Sturgeon Bay\, 2:30–4:30 PM \nAll Jazz Ambassador performances are free and open to the public.
URL:https://doorcounty.net/event/2025-jazz-ambassador-concert-10/
CATEGORIES:Featured Event
END:VEVENT
BEGIN:VEVENT
DTSTART;TZID=America/Chicago:20250725T190000
DTEND;TZID=America/Chicago:20250725T190000
DTSTAMP:20260424T000732
CREATED:20250605T133943Z
LAST-MODIFIED:20250605T133943Z
UID:35882-1753470000-1753470000@doorcounty.net
SUMMARY:Midsummer's Music: The Language of Love – French Piano Trios
DESCRIPTION:These three late Romantic Trios are steeped in “Amour.” Beginning with a work entitled “Romance Without Words\,” we proceed to the voluptuous works of Lalo (famous for his Symphonie Espagnole) and Ernest Chausson. If you can\, bring someone you like to hold hands with. \nAppassionato\, Romance sans paroles – Félix Fourdrain \nTrio No. 3 in A Minor\, Op. 26 – Édouard Lalo \nTrio in G Minor\, Op. 3 – Ernest Chausson \nLOCATIONS: \nJuly 19\, 7:00pm\, St. Luke’s Episcopal Church\, 2336 Canterbury Ln.\, Sister Bay\, WI 54234 \nJuly 20\, 4:00pm\, Hope UCC\, 141 12th Ave.\, Sturgeon Bay\, WI 54235 \nJuly 25\, 7:00pm\, UU Fellowship\, 10341 Water St. HWY 42\, Ephraim\, WI 54211 \nJuly 26\, 7:00pm\, Shepherd of the Bay Lutheran Church\, 11836 WI 42\, Ellison Bay\, WI 54210 \n 
URL:https://doorcounty.net/event/midsummers-music-the-language-of-love-french-piano-trios/2025-07-25/
ATTACH;FMTTYPE=image/jpeg:https://doorcounty.net/wp-content/uploads/Language-of-Love-calendar-featured-image-scaled.jpg
END:VEVENT
BEGIN:VEVENT
DTSTART;TZID=America/Chicago:20250725T190000
DTEND;TZID=America/Chicago:20250725T203000
DTSTAMP:20260424T000732
CREATED:20250618T163904Z
LAST-MODIFIED:20250618T163904Z
UID:36069-1753470000-1753475400@doorcounty.net
SUMMARY:Swing\, Blues\, & Big Band Jazz
DESCRIPTION:An energetic mix of swinging standards and soulful blues\, driven by standout performances from faculty and student ensembles alike.
URL:https://doorcounty.net/event/swing-blues-big-band-jazz/2025-07-25/
LOCATION:Birch Creek Performance Center\, 3821 County Highway E\, Egg Harbor\, WI\, 54209\, United States
CATEGORIES:Featured Event
ATTACH;FMTTYPE=image/jpeg:https://doorcounty.net/wp-content/uploads/Jazz-I-Concert-Fellis-2.jpg
END:VEVENT
END:VCALENDAR