BEGIN:VCALENDAR
VERSION:2.0
PRODID:-//Door County Today - ECPv5.3.1.1//NONSGML v1.0//EN
CALSCALE:GREGORIAN
METHOD:PUBLISH
X-WR-CALNAME:Door County Today
X-ORIGINAL-URL:https://doorcounty.net
X-WR-CALDESC:Events for Door County Today
BEGIN:VTIMEZONE
TZID:America/Chicago
BEGIN:DAYLIGHT
TZOFFSETFROM:-0600
TZOFFSETTO:-0500
TZNAME:CDT
DTSTART:20220313T080000
END:DAYLIGHT
BEGIN:STANDARD
TZOFFSETFROM:-0500
TZOFFSETTO:-0600
TZNAME:CST
DTSTART:20221106T070000
END:STANDARD
END:VTIMEZONE
BEGIN:VEVENT
DTSTART;VALUE=DATE:20221216
DTEND;VALUE=DATE:20221219
DTSTAMP:20260419T075650
CREATED:20221101T231204Z
LAST-MODIFIED:20221102T145531Z
UID:26967-1671148800-1671407999@doorcounty.net
SUMMARY:Couple's Winter Weekend Getaway
DESCRIPTION:A romantic getaway to Door County awaits during the annual Couple’s Winter Weekend. Guests will unwind together in luxe accommodations at The Dorr Hotel located on the waterfront in beautiful Sister Bay. During the day\, explore the winter wonderland of Door County\, and then return for a special get together featuring mulled wine\, heavy appetizers\, and music by Paul Taylor. For more information or to book your stay\, please call 844-944-0354 or email events@thedorrhotel.com \n2-night stay $486 plus $100 for the Couple’s Package. \nThe Dörr Hotel\n2329 Mill Rd\, Sister Bay\, WI 54234\n844-944-0354\nwww.thedorrhotel.com
URL:https://doorcounty.net/event/couples-winter-weekend-getaway/
CATEGORIES:Featured Event
ATTACH;FMTTYPE=image/jpeg:https://doorcounty.net/wp-content/uploads/Couples-Weekend.jpg
END:VEVENT
END:VCALENDAR