BEGIN:VCALENDAR
VERSION:2.0
PRODID:-//Door County Today - ECPv5.3.1.1//NONSGML v1.0//EN
CALSCALE:GREGORIAN
METHOD:PUBLISH
X-WR-CALNAME:Door County Today
X-ORIGINAL-URL:https://doorcounty.net
X-WR-CALDESC:Events for Door County Today
BEGIN:VTIMEZONE
TZID:America/Chicago
BEGIN:DAYLIGHT
TZOFFSETFROM:-0600
TZOFFSETTO:-0500
TZNAME:CDT
DTSTART:20230312T080000
END:DAYLIGHT
BEGIN:STANDARD
TZOFFSETFROM:-0500
TZOFFSETTO:-0600
TZNAME:CST
DTSTART:20231105T070000
END:STANDARD
END:VTIMEZONE
BEGIN:VEVENT
DTSTART;TZID=America/Chicago:20230112T180000
DTEND;TZID=America/Chicago:20230112T180000
DTSTAMP:20260422T234641
CREATED:20221227T134408Z
LAST-MODIFIED:20230106T141006Z
UID:27445-1673546400-1673546400@doorcounty.net
SUMMARY:Storytelling with author Julie Lokun
DESCRIPTION: Author Julie Lokun will be sharing snippets from her upcoming book she is helping her grandfather write\, I Am John\, about his experience in the Holocaust\, as well as discussing the various ways to tell a story through various mediums: books\, podcasting\, etc.\n\nJulie Lokun\, JD is the founder of The Mediacasters\, which is one part publishing\, one part podcasting and one part public speaking. Julie is the author of 4 best-selling books\, host of 3 podcasts and a business communications expert. Julie is known for her keen ability to foster growth for creatives and entrepreneurs by accelerating their 10X dreams.\n\n\n\n\nThe Dorr Hotel\n2329 Mill Rd\nSister Bay\, WI 54234\n1-844-944-0354\nhedorrhotel.com
URL:https://doorcounty.net/event/27445/
CATEGORIES:Featured Event
ATTACH;FMTTYPE=image/jpeg:https://doorcounty.net/wp-content/uploads/thumbnail_image1-2.jpg
END:VEVENT
END:VCALENDAR